BEGIN:VCALENDAR
VERSION:2.0
PRODID:-//Concord Museum - ECPv6.15.17.1//NONSGML v1.0//EN
CALSCALE:GREGORIAN
METHOD:PUBLISH
X-ORIGINAL-URL:https://concordmuseum.org
X-WR-CALDESC:Events for Concord Museum
REFRESH-INTERVAL;VALUE=DURATION:PT1H
X-Robots-Tag:noindex
X-PUBLISHED-TTL:PT1H
BEGIN:VTIMEZONE
TZID:America/New_York
BEGIN:DAYLIGHT
TZOFFSETFROM:-0500
TZOFFSETTO:-0400
TZNAME:EDT
DTSTART:20250309T070000
END:DAYLIGHT
BEGIN:STANDARD
TZOFFSETFROM:-0400
TZOFFSETTO:-0500
TZNAME:EST
DTSTART:20251102T060000
END:STANDARD
BEGIN:DAYLIGHT
TZOFFSETFROM:-0500
TZOFFSETTO:-0400
TZNAME:EDT
DTSTART:20260308T070000
END:DAYLIGHT
BEGIN:STANDARD
TZOFFSETFROM:-0400
TZOFFSETTO:-0500
TZNAME:EST
DTSTART:20261101T060000
END:STANDARD
BEGIN:DAYLIGHT
TZOFFSETFROM:-0500
TZOFFSETTO:-0400
TZNAME:EDT
DTSTART:20270314T070000
END:DAYLIGHT
BEGIN:STANDARD
TZOFFSETFROM:-0400
TZOFFSETTO:-0500
TZNAME:EST
DTSTART:20271107T060000
END:STANDARD
END:VTIMEZONE
BEGIN:VEVENT
DTSTART;TZID=America/New_York:20260516T100000
DTEND;TZID=America/New_York:20260516T140000
DTSTAMP:20260420T165434
CREATED:20250806T201407Z
LAST-MODIFIED:20260326T180423Z
UID:10000764-1778925600-1778940000@concordmuseum.org
SUMMARY:Second Annual Paul Revere's Bike Ride
DESCRIPTION:Join us on a ride through the historic towns of Concord\, Lexington\, Lincoln\, Bedford\, and Carlisle on the second annual Paul Revere’s Bike Ride for the Concord Museum. Starting at the Concord Museum near the historic town center\, cyclists can choose to ride a 19 or 32 mile loop on paved roads\, passing many Revolutionary landmarks like the North Bridge\, the Lexington Green\, the Paul Revere Capture Site\, and much more! \n\n\n\n\n\n\n\n\nRegister on BikeReg\n\n\n\n\nAll registrants will receive: \n\n\n\n\nPaul Revere’s Bike Ride T-shirt\n\n\n\nOn-course mechanical support and additional neutral road support\n\n\n\nFree admission to the Concord Museum on Ride Day\n\n\n\nPost-Ride Party with beer\, music\, and food trucks begins at 11:30 am at the Concord Museum. All are welcome!\n\n\n\n\nAll net proceeds from the events will support the Museum’s educational programs\, making it possible for more than 15\,000 school children to learn from the Museum’s unique collection and expert educators each year. \n\n\n\nCheck-in will be at the Concord Museum on May 16 starting at 8:30 am. Long loop cyclists will begin the ride at 10:00 am\, and short loop cyclists will begin the ride at 10:30 am. All registrants must check-in and pick up their packets and T-shirts before the ride. Avoid the lines\, and check-in early between Wednesday\, May 13 – Friday\, May 15 at the Concord Museum between 10:00 am – 4:00 pm. \n\n\n\nFAQ\n\n\n\n\nCyclists under 18 years old must be accompanied by an adult registrant.\n\n\n\nClass 1 eBikes are permitted. Electric bike riders are responsible for providing a fully operational eBike\, as classified by the state of Massachusetts\, and must be prepared to handle mechanical repairs that SAG vehicles cannot accommodate.\n\n\n\nThis event is rain or shine.  \n\n\n\nThe Museum cannot refund registration fees.\n\n\n\nPlease contact info@concordmuseum.org or 978.369.9763 with any questions.\n\n\n\n\nSponsorship Opportunities:\n\n\n\nThe Concord Museum welcomes both corporate and in-kind sponsors for the Second Annual Paul Revere’s Bike Ride. Sponsorship levels range from $1\,000 to $10\,000\, and include promotion through event materials and riders’ T shirts\, recognition\, tent space at the post-ride party\, and more perks. \n\n\n\nFor more information and in-kind sponsorship opportunities\, please contact Allison Shilling at ashilling@concordmuseum.org or (978) 369-9763 ext. 238. \n\n\n\nSponsorship contributions and donations are tax-deductible to the extent permitted by law. The Concord Antiquarian Society\, operating as the Concord Museum\, is a 501(c)(3) nonprofit organization. Our federal tax ID number is 04-104035. \n\n\n\nPaul Revere’s Bike Ride Sponsorship OpportunitiesDownload\n\n\n\nGenerously sponsored by:\n\n\n\nBib Sponsor\n\n\n\n\n\n\n\n\n\n\n\n\n\n\n\nRest Stop Sponsors\n\n\n\n\n\n\n\n\n\n\n\n\n\n\n\n\n\nAfter-Ride Party Sponsors
URL:https://concordmuseum.org/event/second-annual-paul-reveres-bike-ride/
CATEGORIES:Annual Events,Event Registration,Special Event
ATTACH;FMTTYPE=image/png:https://concordmuseum.org/wp-content/uploads/2025/02/PR-Bike-Ride-1732-x-1100.png
END:VEVENT
END:VCALENDAR