BEGIN:VCALENDAR
VERSION:2.0
PRODID:-//Concord Museum - ECPv6.15.17.1//NONSGML v1.0//EN
CALSCALE:GREGORIAN
METHOD:PUBLISH
X-WR-CALNAME:Concord Museum
X-ORIGINAL-URL:https://concordmuseum.org
X-WR-CALDESC:Events for Concord Museum
REFRESH-INTERVAL;VALUE=DURATION:PT1H
X-Robots-Tag:noindex
X-PUBLISHED-TTL:PT1H
BEGIN:VTIMEZONE
TZID:America/New_York
BEGIN:DAYLIGHT
TZOFFSETFROM:-0500
TZOFFSETTO:-0400
TZNAME:EDT
DTSTART:20250309T070000
END:DAYLIGHT
BEGIN:STANDARD
TZOFFSETFROM:-0400
TZOFFSETTO:-0500
TZNAME:EST
DTSTART:20251102T060000
END:STANDARD
BEGIN:DAYLIGHT
TZOFFSETFROM:-0500
TZOFFSETTO:-0400
TZNAME:EDT
DTSTART:20260308T070000
END:DAYLIGHT
BEGIN:STANDARD
TZOFFSETFROM:-0400
TZOFFSETTO:-0500
TZNAME:EST
DTSTART:20261101T060000
END:STANDARD
BEGIN:DAYLIGHT
TZOFFSETFROM:-0500
TZOFFSETTO:-0400
TZNAME:EDT
DTSTART:20270314T070000
END:DAYLIGHT
BEGIN:STANDARD
TZOFFSETFROM:-0400
TZOFFSETTO:-0500
TZNAME:EST
DTSTART:20271107T060000
END:STANDARD
END:VTIMEZONE
BEGIN:VEVENT
DTSTART;TZID=America/New_York:20260605T000000
DTEND;TZID=America/New_York:20260606T235959
DTSTAMP:20260420T182257
CREATED:20260325T153923Z
LAST-MODIFIED:20260410T202329Z
UID:10000800-1780617600-1780790399@concordmuseum.org
SUMMARY:The Garden Tour
DESCRIPTION:The Concord Museum Garden Tour June 5 – 6 | 10:00 am – 4:00 pm\n\n\n\n\nJoin us for a day of beauty\, nature\, and discovery as you visit six stunning gardens throughout Concord.In 2026\, the Tour will offer a wide variety of garden styles and features\, including decorative elements and vegetable beds\, manicured spaces and naturalistic plantings\, native species and showstopper plantings. Each offers an approach to creating gardens that blend seamlessly with the surrounding landscape\, complement the architectural features of the home\, and offer delightful settings for everyday living. This year’s gardens also showcase expansive patios\, immaculate pools and water features\, hand-cut fieldstone walls\, winding paths\, and terraces.  \n\n\n\nAll proceeds benefit the Museum’s vital school programs that serve over 15\,500 K-12 students across the Commonwealth each year.      \n\n\n\nTickets will go on sale in late April! \n\n\n\nBecome a member today to receive discounted pricing for Garden Tour tickets. \n\n\n\n\n\n\n\n\n\n\n\n  Thank you to our Premier Sponsors: \n\n\n\n\n\n\n\n\n\n\n\n\n\n\n\n\n\n\n\n\n\n\n\n\n\nThank you to our Garden and Map Sponsors: \n\n\n\n\n\n\n\n\n\n\n\n\n\n\n\n\n\n\n\n\n\n\n\n\n\n\n\n\n\n\n\n\n\n\n\n\n\n\n\n\n\n\n\n\n\n\n\n\n\n\n\n\n\n\n\n\n\n\n\n\n\n\n\n\n\n\n\n\n\nPatron Sponsors: \n\n\n\n\n\n\n\n\n\n\n\n\n\n\n\n\n\n\n\n\n\n\n\n\n\n\n\n\n\n\n\n\n\n\n\n\n\n\n\n\n\n\n\nContributor Sponsors: \n\n\n\na Blade of GrassEvarts + McLean + Co – CompassPeggy Dowcett – Coldwell BankerThe Pesce Network – DunkinSeasons Four\, Inc. \n\n\n\n\n\nFriend Sponsors: \n\n\n\nConcord PrintingJane Rupley Landscape DesignKitchen OutfittersRussell’s Garden CenterVintages – Adventures in Wine \n\n\n\n\n\nMedia Sponsors: \n\n\n\n\n\n\n\n\n\n\n\nRetail Sponsors:
URL:https://concordmuseum.org/event/the-garden-tour-2/
CATEGORIES:Annual Events
ATTACH;FMTTYPE=image/png:https://concordmuseum.org/wp-content/uploads/2026/03/Garden-Tour-Signature-Image-2026-no-text.png
END:VEVENT
END:VCALENDAR